BEGIN:VCALENDAR
VERSION:2.0
PRODID:-//ChamberMaster//Event Calendar 2.0//EN
METHOD:PUBLISH
X-PUBLISHED-TTL:P3D
REFRESH-INTERVAL:P3D
CALSCALE:GREGORIAN
BEGIN:VEVENT
DTSTART:20170715T200000Z
DTEND:20170716T000000Z
X-MICROSOFT-CDO-ALLDAYEVENT:FALSE
SUMMARY:BEAUTY and the BEAST
DESCRIPTION:ELLIS COUNTY CHILDREN'S THEATER presents BEAUTY and the BEAST JR this Saturday\, JULY 15th\, at the WHS Fine Arts Center. Shows at 3:00p and 7:00p. Adults $10 Children $5.\n\nYou won't want to miss the amazingly talented young people! So please\, BE OUR GUEST!
X-ALT-DESC;FMTTYPE=text/html:ELLIS COUNTY CHILDREN&#39\;S THEATER presents BEAUTY and the BEAST JR this Saturday\, JULY 15th\, at the WHS Fine Arts Center. Shows at 3:00p and 7:00p. Adults $10 Children $5.<br />\nYou won&#39\;t want to miss the amazingly talented young people! So please\, BE OUR GUEST!
LOCATION:Waxahachie High School Fine Arts Center 1000 Hwy. 77 North Waxahachie\, Texas 75165
UID:e.2608.558
SEQUENCE:3
DTSTAMP:20260425T225104Z
URL:https://business.ennis-chamber.com/events/details/beauty-and-the-beast-558
END:VEVENT

END:VCALENDAR
