BEGIN:VCALENDAR
VERSION:2.0
PRODID:-//ChamberMaster//Event Calendar 2.0//EN
METHOD:PUBLISH
X-PUBLISHED-TTL:P3D
REFRESH-INTERVAL:P3D
CALSCALE:GREGORIAN
BEGIN:VEVENT
DTSTART:20200222T230000Z
DTEND:20200223T040000Z
X-MICROSOFT-CDO-ALLDAYEVENT:FALSE
SUMMARY:Beast Feast
DESCRIPTION:Speaker:\n\nSam Harrell\n\nEnnis High School Football Coach
X-ALT-DESC;FMTTYPE=text/html:Speaker:<br />\nSam Harrell<br />\nEnnis High School Football Coach
LOCATION:Cowboy Church of Ennis
UID:e.2608.3243
SEQUENCE:3
DTSTAMP:20260423T114016Z
URL:https://business.ennis-chamber.com/events/details/beast-feast-3243
END:VEVENT

END:VCALENDAR
