BEGIN:VCALENDAR
VERSION:2.0
PRODID:-//ChamberMaster//Event Calendar 2.0//EN
METHOD:PUBLISH
X-PUBLISHED-TTL:P3D
REFRESH-INTERVAL:P3D
CALSCALE:GREGORIAN
BEGIN:VEVENT
DTSTART:20190928T213000Z
DTEND:20190929T040000Z
X-MICROSOFT-CDO-ALLDAYEVENT:FALSE
SUMMARY:Barn Dance at SOKOL Hall
DESCRIPTION:
X-ALT-DESC;FMTTYPE=text/html:
LOCATION:
UID:e.2608.2956
SEQUENCE:3
DTSTAMP:20260423T205428Z
URL:https://business.ennis-chamber.com/events/details/barn-dance-at-sokol-hall-2956
END:VEVENT

END:VCALENDAR
