BEGIN:VCALENDAR
VERSION:2.0
PRODID:-//ChamberMaster//Event Calendar 2.0//EN
METHOD:PUBLISH
X-PUBLISHED-TTL:P3D
REFRESH-INTERVAL:P3D
CALSCALE:GREGORIAN
BEGIN:VEVENT
DTSTART:20191025T163000Z
DTEND:20191025T180000Z
X-MICROSOFT-CDO-ALLDAYEVENT:FALSE
SUMMARY:Annual Awards Luncheon 2019
DESCRIPTION:Guest Speaker:\n\nEnnis ISD Superintendent\n\nJay Tullos
X-ALT-DESC;FMTTYPE=text/html:Guest Speaker:<br />\nEnnis ISD Superintendent<br />\nJay Tullos
LOCATION:Knights of Columbus Hall 850 S I-45 Ennis\, TX 75119
UID:e.2608.3210
SEQUENCE:3
DTSTAMP:20260423T185838Z
URL:https://business.ennis-chamber.com/events/details/annual-awards-luncheon-2019-3210
END:VEVENT

END:VCALENDAR
