BEGIN:VCALENDAR
VERSION:2.0
PRODID:-//ChamberMaster//Event Calendar 2.0//EN
METHOD:PUBLISH
X-PUBLISHED-TTL:P3D
REFRESH-INTERVAL:P3D
CALSCALE:GREGORIAN
BEGIN:VEVENT
DTSTART:20170609T143000Z
DTEND:20170609T153000Z
X-MICROSOFT-CDO-ALLDAYEVENT:FALSE
SUMMARY:Alzheimer's Family Caregiver Support Group
DESCRIPTION:Caring for a loved one with Alzheimer?s disease or other dementia can leave a family caregiver feeling confused\, overwhelmed and isolated. Our Family Caregiver Support Group provides an opportunity to share your experiences in a safe setting and learn from other families also living with Alzheimer?s disease.
X-ALT-DESC;FMTTYPE=text/html:Caring for a loved one with Alzheimer?s disease or other dementia can leave a family caregiver feeling confused\, overwhelmed and isolated. Our Family Caregiver Support Group provides an opportunity to share your experiences in a safe setting and learn from other families also living with Alzheimer?s disease.
LOCATION:Ennis Regional Medical Center 2201 West Lampasas Bluebonnet Caf Ennis\, TX 75119
UID:e.2608.111
SEQUENCE:3
DTSTAMP:20260426T004638Z
URL:https://business.ennis-chamber.com/events/details/alzheimer-s-family-caregiver-support-group-06-09-2017-111
END:VEVENT

END:VCALENDAR
