BEGIN:VCALENDAR
VERSION:2.0
PRODID:-//ChamberMaster//Event Calendar 2.0//EN
METHOD:PUBLISH
X-PUBLISHED-TTL:P3D
REFRESH-INTERVAL:P3D
CALSCALE:GREGORIAN
BEGIN:VEVENT
DTSTART:20181201T013000Z
DTEND:20181217T033000Z
X-MICROSOFT-CDO-ALLDAYEVENT:FALSE
SUMMARY:A Doublewide\, Texas Christmas
DESCRIPTION:Christmas Theatre Production www.EnnisPublicTheatre.com 7:30pm - Nov 30\, Dec\, 1\, 6\, 7\, 8\, 14\, 15
X-ALT-DESC;FMTTYPE=text/html:Christmas Theatre Production www.EnnisPublicTheatre.com 7:30pm - Nov 30\, Dec\, 1\, 6\, 7\, 8\, 14\, 15
LOCATION:Ennis Public Theatre 113 N. Dallas Street Ennis\, Texas 75119
UID:e.2608.2865
SEQUENCE:3
DTSTAMP:20260424T160406Z
URL:https://business.ennis-chamber.com/events/details/a-doublewide-texas-christmas-2865
END:VEVENT

END:VCALENDAR
