BEGIN:VCALENDAR
VERSION:2.0
PRODID:-//ChamberMaster//Event Calendar 2.0//EN
METHOD:PUBLISH
X-PUBLISHED-TTL:P3D
REFRESH-INTERVAL:P3D
CALSCALE:GREGORIAN
BEGIN:VEVENT
DTSTART:20171030T223000Z
DTEND:20171030T233000Z
X-MICROSOFT-CDO-ALLDAYEVENT:FALSE
SUMMARY:50's Sock Hop Halloween Bash at Brookdale
DESCRIPTION:Come rock around the juke box with us at a 50's Sock Hop themed Halloween Bash!
X-ALT-DESC;FMTTYPE=text/html:<span>Come rock around the juke box with us at a 50&#39\;s Sock Hop themed Halloween Bash!</span>
LOCATION:Brookdale Ennis 2500 Yorkstown Drive Ennis\, TX 75119
UID:e.2608.672
SEQUENCE:3
DTSTAMP:20260425T174708Z
URL:https://business.ennis-chamber.com/events/details/50-s-sock-hop-halloween-bash-at-brookdale-672
END:VEVENT

END:VCALENDAR
