BEGIN:VCALENDAR
VERSION:2.0
PRODID:-//ChamberMaster//Event Calendar 2.0//EN
METHOD:PUBLISH
X-PUBLISHED-TTL:P3D
REFRESH-INTERVAL:P3D
CALSCALE:GREGORIAN
BEGIN:VEVENT
DTSTART:20250309T000000Z
DTEND:20250309T040000Z
X-MICROSOFT-CDO-ALLDAYEVENT:FALSE
SUMMARY:2025 Mardi Gras Beads & Bling: It's a Mardi Gras Thing Masquerade
DESCRIPTION:Beads & Bling: It's a Mardi Gras Thing Masquerade Party\n\n\n\nTheme: Mardi Gras\n\nAttire: Boots & Jeans to Formal\n\n\n\n \n\nMardi Gras Fun Facts\n\nKrewe - The group of people who ride in\, create\, & execute parades.\n\nDoubloons - Large coins painted in flashy colors & thrown during the parade\n\nBacchus - Parade on the Sunday evening before Mardi Gras\n\nMasquerade - Medieval tradition that incorporates masks\, dancing\, & royalty
X-ALT-DESC;FMTTYPE=text/html:<p --font-size:="" --line-height:="" class="cvGsUA direction-ltr align-center para-style-body" line-height:="" style="color: rgb(119\, 41\, 142)\; text-align: center\;" yaefznxsrne=""><span style="font-size: 18px\;"><span class="OYPEnA text-decoration-none text-strikethrough-none" style="font-weight: 700\;">Beads &amp\; Bling: It&#39\;s a Mardi Gras Thing Masquerade Party</span><br />\n<br />\n<span class="OYPEnA text-decoration-none text-strikethrough-none" style="font-weight: 700\; font-style: italic\;">Theme:</span><span class="OYPEnA text-decoration-none text-strikethrough-none">&nbsp\;Mardi Gras</span><br />\n<span class="OYPEnA text-decoration-none text-strikethrough-none" style="font-weight: 700\; font-style: italic\;">Attire:&nbsp\;</span><span class="OYPEnA text-decoration-none text-strikethrough-none">Boots &amp\; Jeans to Formal</span></span></p>\n\n<p --font-size:="" --line-height:="" class="cvGsUA direction-ltr align-center para-style-body" line-height:="" style="color: rgb(119\, 41\, 142)\;" yaefznxsrne=""><br />\n&nbsp\;</p>\n\n<p --font-size:="" --line-height:="" class="cvGsUA direction-ltr align-center para-style-body" line-height:="" style="color: rgb(119\, 41\, 142)\; text-align: center\;" yaefznxsrne=""><span style="font-size: 18px\;"><span class="OYPEnA text-decoration-none text-strikethrough-none" style="font-weight: 700\;">Mardi Gras Fun Facts</span></span></p>\n\n<p --font-size:="" --line-height:="" class="cvGsUA direction-ltr align-center para-style-body" line-height:="" style="color: rgb(119\, 41\, 142)\; text-align: center\;" yafld8skbwc=""><span style="font-size: 18px\;"><span class="OYPEnA text-decoration-none text-strikethrough-none" style="font-weight: 700\; font-style: italic\;">Krewe</span><span class="OYPEnA text-decoration-none text-strikethrough-none" style="font-weight: 700\;">&nbsp\;</span><span class="OYPEnA text-decoration-none text-strikethrough-none">- The group of people who ride in\, create\, &amp\; execute parades.</span></span></p>\n\n<p --font-size:="" --line-height:="" class="cvGsUA direction-ltr align-center para-style-body" line-height:="" style="color: rgb(119\, 41\, 142)\; text-align: center\;" yafld8skbwc=""><span style="font-size: 18px\;"><span class="OYPEnA text-decoration-none text-strikethrough-none" style="font-weight: 700\; font-style: italic\;">Doubloons</span><span class="OYPEnA text-decoration-none text-strikethrough-none">&nbsp\;- Large coins painted in flashy colors &amp\; thrown during the parade</span></span></p>\n\n<p --font-size:="" --line-height:="" class="cvGsUA direction-ltr align-center para-style-body" line-height:="" style="color: rgb(119\, 41\, 142)\; text-align: center\;" yafld8skbwc=""><span style="font-size: 18px\;"><span class="OYPEnA text-decoration-none text-strikethrough-none" style="font-weight: 700\; font-style: italic\;">Bacchus</span><span class="OYPEnA text-decoration-none text-strikethrough-none" style="font-weight: 700\;">&nbsp\;</span><span class="OYPEnA text-decoration-none text-strikethrough-none">- Parade on the Sunday evening before Mardi Gras</span></span></p>\n\n<p --font-size:="" --line-height:="" class="cvGsUA direction-ltr align-center para-style-body" line-height:="" style="color: rgb(119\, 41\, 142)\; text-align: center\;" yafld8skbwc=""><span style="font-size: 18px\;"><span class="OYPEnA text-decoration-none text-strikethrough-none" style="font-weight: 700\; font-style: italic\;">Masquerade</span><span class="OYPEnA text-decoration-none text-strikethrough-none">&nbsp\;- Medieval tradition that incorporates masks\, dancing\, &amp\; royalty</span></span></p>\n
LOCATION:SPJST Lodge #25 1901 East Highway 34 Ennis\, TX 75119
UID:e.2608.3508
SEQUENCE:3
DTSTAMP:20260419T225750Z
URL:https://business.ennis-chamber.com/events/details/2025-mardi-gras-beads-bling-it-s-a-mardi-gras-thing-masquerade-3508
END:VEVENT

END:VCALENDAR
