BEGIN:VCALENDAR
VERSION:2.0
PRODID:-//ChamberMaster//Event Calendar 2.0//EN
METHOD:PUBLISH
X-PUBLISHED-TTL:P3D
REFRESH-INTERVAL:P3D
CALSCALE:GREGORIAN
BEGIN:VEVENT
DTSTART:20191116T180000Z
DTEND:20191117T050000Z
X-MICROSOFT-CDO-ALLDAYEVENT:FALSE
SUMMARY:1st Annual Turkey Trot
DESCRIPTION:
X-ALT-DESC;FMTTYPE=text/html:
LOCATION:
UID:e.2608.2957
SEQUENCE:3
DTSTAMP:20260423T171848Z
URL:https://business.ennis-chamber.com/events/details/1st-annual-turkey-trot-2957
END:VEVENT

END:VCALENDAR
