BEGIN:VCALENDAR
VERSION:2.0
PRODID:-//ChamberMaster//Event Calendar 2.0//EN
METHOD:PUBLISH
X-PUBLISHED-TTL:P3D
REFRESH-INTERVAL:P3D
CALSCALE:GREGORIAN
BEGIN:VEVENT
DTSTART:20260826T170000Z
DTEND:20260826T180000Z
X-MICROSOFT-CDO-ALLDAYEVENT:FALSE
SUMMARY:Greater Ennis United Way Campaign Kick Off Luncheon
DESCRIPTION:Greater Ennis United Way would like to invite you to their Campaign Kick-Off Luncheon at The Avenue Church   Ennis\, on Wednesday\, August 26\, 2026\, at 12 noon. Come for the free fish fry\, stay for the recognitions and good times   hope to see you there!
X-ALT-DESC;FMTTYPE=text/html:<div>\n<div>Greater Ennis United Way would like to invite you to their Campaign Kick-Off Luncheon at The Avenue Church &ndash\; Ennis\, on Wednesday\, August 26\, 2026\, at 12 noon. Come for the free fish fry\, stay for the recognitions and good times &ndash\; hope to see you there!&nbsp\;</div>\n</div>\n
LOCATION:The Avenue Church in Ennis\, Texas
UID:e.2608.3553
SEQUENCE:3
DTSTAMP:20260425T234043Z
URL:http://business.ennis-chamber.com/events/details/greater-ennis-united-way-campaign-kick-off-luncheon-08-26-2026-3553
END:VEVENT

END:VCALENDAR
