BEGIN:VCALENDAR
VERSION:2.0
PRODID:-//ChamberMaster//Event Calendar 2.0//EN
METHOD:PUBLISH
X-PUBLISHED-TTL:P3D
REFRESH-INTERVAL:P3D
CALSCALE:GREGORIAN
BEGIN:VEVENT
DTSTART:20260505T163000Z
DTEND:20260505T180000Z
X-MICROSOFT-CDO-ALLDAYEVENT:FALSE
SUMMARY:Ennis Main Street Small Business Training & Development Series
DESCRIPTION:Join Ennis Main Street for a Small Business workshop with Texas Downtown Staff- Shelly Ashcroft. Enjoy lunch\, networking\, and an opportunity to ask questions about downtown marketing best practices.
X-ALT-DESC;FMTTYPE=text/html:<span style="font-size:22px\;"><strong>Join Ennis Main Street for a Small Business workshop with Texas Downtown Staff- Shelly Ashcroft. Enjoy lunch\, networking\, and an opportunity to ask questions about downtown marketing best practices.</strong></span>
LOCATION:Ennis Welcome Center: Bluebonnet Room 201 NW Main St. Ennis\, TX 75119
UID:e.2608.3980
SEQUENCE:3
DTSTAMP:20260424T185844Z
URL:http://business.ennis-chamber.com/events/details/ennis-main-street-small-business-training-development-series-3980
END:VEVENT

END:VCALENDAR
